BEGIN:VCALENDAR
VERSION:2.0
PRODID:-//ChamberMaster//Event Calendar 2.0//EN
METHOD:PUBLISH
X-PUBLISHED-TTL:P3D
REFRESH-INTERVAL:P3D
CALSCALE:GREGORIAN
BEGIN:VEVENT
DTSTART:20201015T020000Z
DTEND:20201015T030000Z
X-MICROSOFT-CDO-ALLDAYEVENT:FALSE
SUMMARY:Planning Call #1 2020 Virtual Singapore Business Mission
DESCRIPTION:Planning Call #1 for 2020 Virtual Singapore Business Mission November 16-20\, 2020. Please join the first planning call for an overview of the mission and weigh in on the prioritization of meeting requests and topics for discussion. This is also a good opportunity to receive clarification on the meeting format\, fees\, and other information needed from members for the mission. \n\n The US-ASEAN Business Council is registering senior-level executives for the Virtual Business Mission to Singapore on November 16-20\, 2020. This virtual mission will offer members the opportunity to engage key Singapore Government officials after the General Elections and Cabinet reshuffle in July. The virtual mission will be a series of interactive Zoom sessions timed for participants based in Southeast Asia and the United States to be able to join. To register for the mission\, please go to\n\n https://www.usasean.org/mission/registration.
X-ALT-DESC;FMTTYPE=text/html:<span style="font-size:14px\;"><span style="font-family:arial\;">Planning Call #1 for 2020 Virtual Singapore Business Mission November 16-20\, 2020. Please join the first planning call for an overview of the mission and weigh in on the prioritization of meeting requests and topics for discussion. This is also a good opportunity to receive clarification on the meeting format\, fees\, and other information needed from members for the mission.&nbsp\;</span></span><br />\n&nbsp\;<span style="font-size:14px\;"><span style="font-family:arial\;"><span style="box-sizing: border-box\; outline: 0px\; color: rgb(68\, 68\, 68)\;"><span style="box-sizing: border-box\; outline: 0px\;">The US-ASEAN Business Council is registering senior-level executives for the Virtual Business Mission to Singapore on November 16-20\, 2020.&nbsp\;</span></span><span style="box-sizing: border-box\; color: black\;"><span style="box-sizing: border-box\;"><span style="box-sizing: border-box\;">This virtual mission will offer members the opportunity to engage key Singapore Government officials after the General Elections and Cabinet reshuffle in July. The virtual mission will be a series of interactive Zoom sessions timed for participants based in Southeast Asia and the United States to be able to join.&nbsp\;</span></span></span>To register for the mission\, please go to<br />\n&#8203\;</span></span><a href="https://www.usasean.org/mission/registration" style="color: rgb(34\, 72\, 132)\; box-sizing: border-box\; background-color: transparent\; text-decoration-line: none\; outline: 0px\; overflow-wrap: break-word\; font-size: 16px\; font-weight: 700\; font-family: arial\;">https://www.usasean.org/mission/registration</a>.
LOCATION:Zoom Call
UID:e.9078.8319
SEQUENCE:3
DTSTAMP:20210604T120624Z
URL:http://memberzone.usasean.org/events/details/planning-call-1-2020-virtual-singapore-business-mission-8319
END:VEVENT

END:VCALENDAR
