BEGIN:VCALENDAR
VERSION:2.0
PRODID:-//ChamberMaster//Event Calendar 2.0//EN
METHOD:PUBLISH
X-PUBLISHED-TTL:P3D
REFRESH-INTERVAL:P3D
CALSCALE:GREGORIAN
BEGIN:VEVENT
DTSTART:20210930T010000Z
DTEND:20210930T020000Z
X-MICROSOFT-CDO-ALLDAYEVENT:FALSE
SUMMARY:MAS Roundtable Discussion on ESG Finance
DESCRIPTION:
X-ALT-DESC;FMTTYPE=text/html:
LOCATION:
UID:e.9078.8533
SEQUENCE:3
DTSTAMP:20210913T171030Z
URL:http://memberzone.usasean.org/events/details/mas-roundtable-discussion-on-esg-finance-8533
END:VEVENT

END:VCALENDAR
