BEGIN:VCALENDAR
VERSION:2.0
PRODID:-//ChamberMaster//Event Calendar 2.0//EN
METHOD:PUBLISH
X-PUBLISHED-TTL:P3D
REFRESH-INTERVAL:P3D
CALSCALE:GREGORIAN
BEGIN:VEVENT
DTSTART;VALUE=DATE:20201123
DTEND;VALUE=DATE:20201201
TRANSP:TRANSPARENT
X-MICROSOFT-CDO-ALLDAYEVENT:TRUE
SUMMARY:ASEAN Innovation Series
DESCRIPTION:The Council is pleased to invite you to the ASEAN Innovation Series.
X-ALT-DESC;FMTTYPE=text/html:The Council is pleased to invite you to the ASEAN Innovation Series.
LOCATION:Dial-in
UID:e.9078.8316
SEQUENCE:3
DTSTAMP:20210522T080404Z
URL:http://memberzone.usasean.org/events/details/asean-innovation-series-8316
END:VEVENT

END:VCALENDAR
