BEGIN:VCALENDAR
VERSION:2.0
PRODID:-//ChamberMaster//Event Calendar 2.0//EN
METHOD:PUBLISH
X-PUBLISHED-TTL:P3D
REFRESH-INTERVAL:P3D
CALSCALE:GREGORIAN
BEGIN:VEVENT
DTSTART;VALUE=DATE:20201123
DTEND;VALUE=DATE:20201128
TRANSP:TRANSPARENT
X-MICROSOFT-CDO-ALLDAYEVENT:TRUE
SUMMARY:2020 Thailand Business Mission
DESCRIPTION:2020 Thailand Business Mission
X-ALT-DESC;FMTTYPE=text/html:2020 Thailand Business Mission
LOCATION:Bangkok\, Thailand
UID:e.9078.8322
SEQUENCE:3
DTSTAMP:20210522T080425Z
URL:http://memberzone.usasean.org/events/details/2020-thailand-business-mission-8322
END:VEVENT

END:VCALENDAR
