BEGIN:VCALENDAR
VERSION:2.0
PRODID:-//ChamberMaster//Event Calendar 2.0//EN
METHOD:PUBLISH
X-PUBLISHED-TTL:P3D
REFRESH-INTERVAL:P3D
CALSCALE:GREGORIAN
BEGIN:VEVENT
DTSTART:20201123T130000Z
DTEND:20201123T140000Z
X-MICROSOFT-CDO-ALLDAYEVENT:FALSE
SUMMARY:2020 Brunei Virtual Business Mission 1st Planning Call Feat Amb Serbini Ali
DESCRIPTION:
X-ALT-DESC;FMTTYPE=text/html:
LOCATION:
UID:e.9078.8341
SEQUENCE:3
DTSTAMP:20210522T080436Z
URL:http://memberzone.usasean.org/events/details/2020-brunei-virtual-business-mission-1st-planning-call-feat-amb-serbini-ali-8341
END:VEVENT

END:VCALENDAR
