BEGIN:VCALENDAR
VERSION:2.0
PRODID:-//ChamberMaster//Event Calendar 2.0//EN
METHOD:PUBLISH
X-PUBLISHED-TTL:P3D
REFRESH-INTERVAL:P3D
CALSCALE:GREGORIAN
BEGIN:VEVENT
DTSTART:20141218T170000Z
DTEND:20141218T183000Z
X-MICROSOFT-CDO-ALLDAYEVENT:FALSE
SUMMARY:Yangon Member's Meeting
DESCRIPTION:Monthly Yangon Member's Meeting
X-ALT-DESC;FMTTYPE=text/html:Monthly Yangon Member&#39\;s Meeting
LOCATION:GE Offices 174/178 Bo Myat Tun Street\, Pazundaung Twnshp
UID:e.9078.1329
SEQUENCE:3
DTSTAMP:20260419T235151Z
URL:http://memberzone.usasean.org/events/details/yangon-member-s-meeting-12-18-2014-1329
END:VEVENT

END:VCALENDAR
