BEGIN:VCALENDAR
VERSION:2.0
PRODID:-//ChamberMaster//Event Calendar 2.0//EN
METHOD:PUBLISH
X-PUBLISHED-TTL:P3D
REFRESH-INTERVAL:P3D
CALSCALE:GREGORIAN
BEGIN:VEVENT
DTSTART;VALUE=DATE:20150419
DTEND;VALUE=DATE:20150422
TRANSP:TRANSPARENT
X-MICROSOFT-CDO-ALLDAYEVENT:TRUE
SUMMARY:World Economic Forum on East Asia 2015
DESCRIPTION:World Economic Forum on East Asia 2015
X-ALT-DESC;FMTTYPE=text/html:World Economic Forum on East Asia 2015
LOCATION:Jakarta\, Indonesia
UID:e.9078.1488
SEQUENCE:3
DTSTAMP:20260419T185841Z
URL:http://memberzone.usasean.org/events/details/world-economic-forum-on-east-asia-2015-04-19-2015-1488
END:VEVENT

END:VCALENDAR
