BEGIN:VCALENDAR
VERSION:2.0
PRODID:-//ChamberMaster//Event Calendar 2.0//EN
METHOD:PUBLISH
X-PUBLISHED-TTL:P3D
REFRESH-INTERVAL:P3D
CALSCALE:GREGORIAN
BEGIN:VEVENT
DTSTART:20210217T010000Z
DTEND:20210217T154500Z
X-MICROSOFT-CDO-ALLDAYEVENT:FALSE
SUMMARY:Workshop: A Vision for Cross-Border E-Commerce in ASEAN
DESCRIPTION:The workshop aimed at formally launching the e-commerce report that the Council commissioned in 2020. The report titled "A Vision for Cross-Border E-Commerce in ASEAN" was presented to the ASEAN Economic Ministers in August 2020\, proposing practical and impactful initiatives that would help ASEAN advance an integrated and seamless regional market for e-commerce. The workshop will feature keynote remarks by the Chair of the ASEAN Coordinating Committee on E-Commerce and panel discussions with prominent speakers from the key business players within the e-commerce ecosystem in ASEAN. Please find the attached program for your perusal.\n\n \n\nThe workshop will serve as an avenue for private sector and ASEAN government stakeholders to discuss the various pain points\, challenges and opportunities critical for the development of e-commerce in ASEAN\, and ensure that the initiatives proposed in the report would complement the existing work by ASEAN sectoral bodies\, including the implementation of ASEAN Agreement on E-Commerce and its Work Program.\n\n \n\nPlease register here: http://bit.ly/USABCECOMMERCEWORKSHOP to get the unique link to join the workshop.\n\n \n\nFor any questions\, please contact Marcella Suwandhi at msuwandhi@usasean.org and Nugraheni Utami at utami@usasean.org.
X-ALT-DESC;FMTTYPE=text/html:<span style="font-family:cambria\,serif\;">The workshop aimed at formally launching the e-commerce report that the Council commissioned in 2020. The report titled &quot\;<strong>A Vision for Cross-Border E-Commerce in ASEAN&quot\;</strong>&nbsp\;was presented to the ASEAN Economic Ministers in August 2020\, proposing practical and impactful initiatives that would help ASEAN advance an integrated and seamless regional market for e-commerce. The workshop will feature keynote remarks by the Chair of the ASEAN Coordinating Committee on E-Commerce and panel discussions with prominent speakers from the key business players within the e-commerce ecosystem in ASEAN. Please find the attached program for your perusal.</span><br />\n&nbsp\;<br />\n<span style="font-family:cambria\,serif\;">The workshop will serve as an avenue for private sector and ASEAN government stakeholders to discuss the various pain points\, challenges and opportunities critical for the development of e-commerce in ASEAN\, and ensure that the initiatives proposed in the report would complement the existing work by ASEAN sectoral bodies\, including the implementation of ASEAN Agreement on E-Commerce and its Work Program.</span><br />\n&nbsp\;<br />\n<span style="font-family:cambria\,serif\;">Please register here: <strong><span style="background:yellow\;"><span style="color:red\;"><a href="http://bit.ly/USABCECOMMERCEWORKSHOP"><span style="color:red\;">http://bit.ly/USABCECOMMERCEWORKSHOP</span></a></span></span></strong> to get the unique link to join the workshop.</span><br />\n&nbsp\;<br />\n<span style="font-family:cambria\,serif\;">For any questions\, please contact <strong>Marcella Suwandhi</strong> at <a href="mailto:msuwandhi@usasean.org">msuwandhi@usasean.org</a> and <strong>Nugraheni Utami</strong> at <a href="mailto:utami@usasean.org">utami@usasean.org</a>. </span>
LOCATION:Please register here: http://bit.ly/USABCECOMMERCEWORKSHOP
UID:e.9078.8392
SEQUENCE:3
DTSTAMP:20260420T033251Z
URL:http://memberzone.usasean.org/events/details/workshop-a-vision-for-cross-border-e-commerce-in-asean-8392
END:VEVENT

END:VCALENDAR
