BEGIN:VCALENDAR
VERSION:2.0
PRODID:-//ChamberMaster//Event Calendar 2.0//EN
METHOD:PUBLISH
X-PUBLISHED-TTL:P3D
REFRESH-INTERVAL:P3D
CALSCALE:GREGORIAN
BEGIN:VEVENT
DTSTART:20221007T060000Z
DTEND:20221007T080000Z
X-MICROSOFT-CDO-ALLDAYEVENT:FALSE
SUMMARY:Workshop 2: ASEAN Cybersecurity Maturity Assessment Model
DESCRIPTION:
X-ALT-DESC;FMTTYPE=text/html:
LOCATION:
UID:e.9078.8877
SEQUENCE:3
DTSTAMP:20260421T204701Z
URL:http://memberzone.usasean.org/events/details/workshop-2-asean-cybersecurity-maturity-assessment-model-8877
END:VEVENT

END:VCALENDAR
