BEGIN:VCALENDAR
VERSION:2.0
PRODID:-//ChamberMaster//Event Calendar 2.0//EN
METHOD:PUBLISH
X-PUBLISHED-TTL:P3D
REFRESH-INTERVAL:P3D
CALSCALE:GREGORIAN
BEGIN:VEVENT
DTSTART:20210331T140000Z
DTEND:20210331T150000Z
X-MICROSOFT-CDO-ALLDAYEVENT:FALSE
SUMMARY:Welcome Meeting with Ambassador Manasvi Srisodapol\, Ambassador of Thailand to the U.S.
DESCRIPTION:Welcome Meeting with Ambassador Manasvi Srisodapol\, Ambassador of Thailand to the United States
X-ALT-DESC;FMTTYPE=text/html:Welcome Meeting with Ambassador Manasvi Srisodapol\, Ambassador of Thailand to the United States
LOCATION:Zoom
UID:e.9078.8414
SEQUENCE:3
DTSTAMP:20260420T020831Z
URL:http://memberzone.usasean.org/events/details/welcome-meeting-with-ambassador-manasvi-srisodapol-ambassador-of-thailand-to-the-u-s-8414
END:VEVENT

END:VCALENDAR
