BEGIN:VCALENDAR
VERSION:2.0
PRODID:-//ChamberMaster//Event Calendar 2.0//EN
METHOD:PUBLISH
X-PUBLISHED-TTL:P3D
REFRESH-INTERVAL:P3D
CALSCALE:GREGORIAN
BEGIN:VEVENT
DTSTART:20150421T160000Z
DTEND:20150421T173000Z
X-MICROSOFT-CDO-ALLDAYEVENT:FALSE
SUMMARY:Welcome Luncheon for Thai Ambassador Pisan
DESCRIPTION:Welcome Luncheon For Ambassador Pisan
X-ALT-DESC;FMTTYPE=text/html:Welcome Luncheon For Ambassador Pisan
LOCATION:St. Regis Hotel
UID:e.9078.1526
SEQUENCE:3
DTSTAMP:20260419T185706Z
URL:http://memberzone.usasean.org/events/details/welcome-luncheon-for-thai-ambassador-pisan-04-21-2015-1526
END:VEVENT

END:VCALENDAR
