BEGIN:VCALENDAR
VERSION:2.0
PRODID:-//ChamberMaster//Event Calendar 2.0//EN
METHOD:PUBLISH
X-PUBLISHED-TTL:P3D
REFRESH-INTERVAL:P3D
CALSCALE:GREGORIAN
BEGIN:VEVENT
DTSTART:20131121T170000Z
DTEND:20131121T183000Z
X-MICROSOFT-CDO-ALLDAYEVENT:FALSE
SUMMARY:Welcome Luncheon for H.E. Vijavat Isarabhakdi\, Ambassador of Thailand to the United States of America
DESCRIPTION:Welcome Luncheon for H.E. Mr.Vijavat Isarabhakdi\, Ambassador of Thailand to the United States of America
X-ALT-DESC;FMTTYPE=text/html:Welcome Luncheon for <span style="font: 12px/24px Kreon\, Arial\, sans-serif\; text-align: left\; color: rgb(72\, 66\, 63)\; text-transform: none\; text-indent: 0px\; letter-spacing: normal\; word-spacing: 0px\; float: none\; display: inline !important\; white-space: normal\; font-size-adjust: none\; font-stretch: normal\; background-color: rgb(255\, 255\, 255)\; -webkit-text-stroke-width: 0px\;">H.E. Mr.Vijavat Isarabhakdi\, Ambassador of Thailand to the United States of America</span>
LOCATION:Seasons Restaurant Four Seasons Hotel\, Georgetown Washington\, DC
UID:e.9078.985
SEQUENCE:3
DTSTAMP:20260421T093846Z
URL:http://memberzone.usasean.org/events/details/welcome-luncheon-for-h-e-vijavat-isarabhakdi-ambassador-of-thailand-to-the-united-states-of-america-11-21-2013-985
END:VEVENT

END:VCALENDAR
