BEGIN:VCALENDAR
VERSION:2.0
PRODID:-//ChamberMaster//Event Calendar 2.0//EN
METHOD:PUBLISH
X-PUBLISHED-TTL:P3D
REFRESH-INTERVAL:P3D
CALSCALE:GREGORIAN
BEGIN:VEVENT
DTSTART:20150121T170000Z
DTEND:20150121T183000Z
X-MICROSOFT-CDO-ALLDAYEVENT:FALSE
SUMMARY:Welcome Luncheon for Ambassador Pham Quang Vinh
DESCRIPTION:Welcome Luncheon for Ambassador Pham Quang Vinh
X-ALT-DESC;FMTTYPE=text/html:Welcome Luncheon for Ambassador Pham Quang Vinh&nbsp\;&nbsp\;
LOCATION:TBD
UID:e.9078.1349
SEQUENCE:3
DTSTAMP:20260419T221946Z
URL:http://memberzone.usasean.org/events/details/welcome-luncheon-for-ambassador-pham-quang-vinh-01-21-2015-1349
END:VEVENT

END:VCALENDAR
