BEGIN:VCALENDAR
VERSION:2.0
PRODID:-//ChamberMaster//Event Calendar 2.0//EN
METHOD:PUBLISH
X-PUBLISHED-TTL:P3D
REFRESH-INTERVAL:P3D
CALSCALE:GREGORIAN
BEGIN:VEVENT
DTSTART:20211215T163000Z
DTEND:20211215T180000Z
X-MICROSOFT-CDO-ALLDAYEVENT:FALSE
SUMMARY:Welcome Luncheon for Amb. Rosan Roeslani
DESCRIPTION:The US-ASEAN Business Council is pleased to host an in-person Welcome Luncheon in honor of the Ambassador of the Republic of Indonesia to the United States\, H.E. Rosan Roeslani. \n\n\n\nH.E. Rosan Roeslani was sworn in as the Indonesian Ambassador to the U.S. on October 25\, 2021. He was previously the Chairman of the Indonesia Chamber of Commerce and Industry (KADIN). Before leading KADIN\, Ambassador Roeslani co-founded and Chaired PT. Republik Indonesia Funding (Finance Indonesia)\, a financial advisory company that later changed its name to Recapital. Ambassador Roeslani's background is not limited to the financial and banking sector\, but also includes mining\, property and infrastructure\, as well as media and telecommunication.
X-ALT-DESC;FMTTYPE=text/html:<br />\n<span style="color: dimgray\;"><span style="font-family: arial\, sans-serif\;"><span style="font-size: 10.5pt\;">The US-ASEAN Business Council is pleased to host an in-person Welcome Luncheon in honor of the Ambassador of the Republic of Indonesia to the United States\, H.E. Rosan Roeslani.&nbsp\;<br />\n<br />\nH.E. Rosan Roeslani&nbsp\;was sworn in as the Indonesian Ambassador to the U.S. on October 25\, 2021. He was previously the Chairman of the Indonesia Chamber of Commerce and Industry (KADIN).&nbsp\;Before leading KADIN\, Ambassador Roeslani co-founded and Chaired PT. Republik Indonesia Funding (Finance Indonesia)\, a financial advisory company that later changed its name to Recapital. Ambassador Roeslani&rsquo\;s background is not limited to the financial and banking sector\, but also includes mining\, property and infrastructure\, as well as media and telecommunication.</span></span></span>
LOCATION:St. Regis Hotel\, 923 Black Lives Matter Plz NW\, Washington\, DC
UID:e.9078.8669
SEQUENCE:3
DTSTAMP:20260423T014355Z
URL:http://memberzone.usasean.org/events/details/welcome-luncheon-for-amb-rosan-roeslani-8669
END:VEVENT

END:VCALENDAR
