BEGIN:VCALENDAR
VERSION:2.0
PRODID:-//ChamberMaster//Event Calendar 2.0//EN
METHOD:PUBLISH
X-PUBLISHED-TTL:P3D
REFRESH-INTERVAL:P3D
CALSCALE:GREGORIAN
BEGIN:VEVENT
DTSTART:20200506T010000Z
DTEND:20200506T030000Z
X-MICROSOFT-CDO-ALLDAYEVENT:FALSE
SUMMARY:Webinar: U.S. EXIM Resources for the Energy Sector in Southeast Asia
DESCRIPTION:Dear Members\,\n\n\n\nU.S. Commercial Service and the U.S. Embassy in Jakarta\, Indonesia will hold a Webinar by U.S. EXIM Bank senior staff covering the power and oil/gas sectors. The webinar aims to:\n\n	understand resources available to U.S. exporters exploring opportunities in Southeast Asia's energy markets\, including new U.S. EXIM products intended to address financial constraints during the current health pandemic.\n	learn how to take advantage of these tools and resources for your company during this critical time in markets across the ASEAN region.\n\nSpeakers:\n\n\n	Daniel C. Tobin\, Managing Director for the power sector\, EXIM Structured and Project Financing Division\n	Trey Armstrong\, Managing Director for upstream oil/gas\, EXIM Structured and Project Financing Division\n	U.S. Embassy Jakarta representatives\, providing an overview of upcoming energy sector activities\n\n\nMembers are advised to register directly here. Should you have further question please contact Angga Antagia at aantagia@usasean.org.
X-ALT-DESC;FMTTYPE=text/html:Dear Members\,<br />\n<br />\nU.S. Commercial Service and the U.S. Embassy in Jakarta\, Indonesia will hold a Webinar by U.S. EXIM Bank senior staff covering the power and oil/gas sectors. The webinar aims to:\n<ul>\n	<li style="margin-bottom:0in\;margin-bottom:.0001pt\;">understand resources available to U.S. exporters exploring opportunities in Southeast Asia&#39\;s energy markets\, including new U.S. EXIM products intended to address financial constraints during the current health pandemic.</li>\n	<li style="margin-bottom:0in\;margin-bottom:.0001pt\;">learn how to take advantage of these tools and resources for your company during this critical time in markets across the ASEAN region.</li>\n</ul>\nSpeakers:\n\n<ul>\n	<li style="margin-bottom:0in\;margin-bottom:.0001pt\;line-height:normal\;"><strong>Daniel C. Tobin</strong>\, Managing Director for the power sector\, EXIM Structured and Project Financing Division</li>\n	<li style="margin-bottom:0in\;margin-bottom:.0001pt\;line-height:normal\;"><strong>Trey Armstrong</strong>\, Managing Director for upstream oil/gas\, EXIM Structured and Project Financing Division</li>\n	<li style="margin-bottom:0in\;margin-bottom:.0001pt\;line-height:normal\;">U.S. Embassy Jakarta representatives\, providing an overview of upcoming energy sector activities</li>\n</ul>\n\n<div style="margin-bottom:0in\;margin-bottom:.0001pt\;line-height:normal\;">Members are advised to register directly <a href="https://bit.ly/2yN8EwT">here.</a>&nbsp\;Should you have further question please contact Angga Antagia at aantagia@usasean.org.&nbsp\;</div>\n
LOCATION:Webex
UID:e.9078.8185
SEQUENCE:3
DTSTAMP:20260420T154514Z
URL:http://memberzone.usasean.org/events/details/webinar-u-s-exim-resources-for-the-energy-sector-in-southeast-asia-8185
END:VEVENT

END:VCALENDAR
