BEGIN:VCALENDAR
VERSION:2.0
PRODID:-//ChamberMaster//Event Calendar 2.0//EN
METHOD:PUBLISH
X-PUBLISHED-TTL:P3D
REFRESH-INTERVAL:P3D
CALSCALE:GREGORIAN
BEGIN:VEVENT
DTSTART:20201001T100000Z
DTEND:20201001T113000Z
X-MICROSOFT-CDO-ALLDAYEVENT:FALSE
SUMMARY:Virtual Workshop: “Best Practices for Cyber Risk Management and Workforce Development”
DESCRIPTION:
X-ALT-DESC;FMTTYPE=text/html:
LOCATION:
UID:e.9078.8308
SEQUENCE:3
DTSTAMP:20260422T090411Z
URL:http://memberzone.usasean.org/events/details/virtual-workshop-best-practices-for-cyber-risk-management-and-workforce-development-8308
END:VEVENT

END:VCALENDAR
