BEGIN:VCALENDAR
VERSION:2.0
PRODID:-//ChamberMaster//Event Calendar 2.0//EN
METHOD:PUBLISH
X-PUBLISHED-TTL:P3D
REFRESH-INTERVAL:P3D
CALSCALE:GREGORIAN
BEGIN:VEVENT
DTSTART:20210707T013000Z
DTEND:20210707T023000Z
X-MICROSOFT-CDO-ALLDAYEVENT:FALSE
SUMMARY:Virtual Roundtable with Incoming Vietnam Commercial Officers
DESCRIPTION:Virtual Roundtable with Incoming Commercial Officers\, U.S. Embassy Vietnam
X-ALT-DESC;FMTTYPE=text/html:Virtual Roundtable with Incoming Commercial Officers\, U.S. Embassy Vietnam
LOCATION:Zoom
UID:e.9078.8498
SEQUENCE:3
DTSTAMP:20260419T174346Z
URL:http://memberzone.usasean.org/events/details/virtual-roundtable-with-incoming-vietnam-commercial-officers-8498
END:VEVENT

END:VCALENDAR
