BEGIN:VCALENDAR
VERSION:2.0
PRODID:-//ChamberMaster//Event Calendar 2.0//EN
METHOD:PUBLISH
X-PUBLISHED-TTL:P3D
REFRESH-INTERVAL:P3D
CALSCALE:GREGORIAN
BEGIN:VEVENT
DTSTART:20210121T130000Z
DTEND:20210121T140000Z
X-MICROSOFT-CDO-ALLDAYEVENT:FALSE
SUMMARY:Virtual Roundtable with Brian McFeeters\, U.S. Ambassador-Designate to Malaysia
DESCRIPTION:Please join us for a virtual roundtable with Ambassador-Designate Brian McFeeters. The roundtable will be an opportunity to introduce your companies and interest in Malaysia to Ambassador-Designate McFeeters before he begins his post. You may find his bio here. We look forward to welcoming Brian McFeeters back to Southeast Asia.\n\n\n\nFor more information\, please contact our Malaysia team.
X-ALT-DESC;FMTTYPE=text/html:<span style="font-family:georgia\,serif\;"><span style="font-size:12.0pt\;">Please join us for a virtual roundtable with Ambassador-Designate Brian McFeeters. The roundtable will be an opportunity to introduce your companies and interest in Malaysia to Ambassador-Designate McFeeters before he begins his post. <a href="https://protect-us.mimecast.com/s/EuSUCkRgJAfLB5xCQdYKS">You may find his bio here</a>. We look forward to welcoming Brian McFeeters back to Southeast Asia.<br />\n<br />\nFor more information\, please contact our <a href="mailto:kyaeger@usasean.org\;acoria@usasean.org\;tjamaluddin@usasean.org\;emma@usasean.org">Malaysia team</a>.</span></span>
LOCATION:Webex link will be sent to registrants in advance of the virtual roundtable.
UID:e.9078.8364
SEQUENCE:3
DTSTAMP:20260425T021426Z
URL:http://memberzone.usasean.org/events/details/virtual-roundtable-with-brian-mcfeeters-u-s-ambassador-designate-to-malaysia-8364
END:VEVENT

END:VCALENDAR
