BEGIN:VCALENDAR
VERSION:2.0
PRODID:-//ChamberMaster//Event Calendar 2.0//EN
METHOD:PUBLISH
X-PUBLISHED-TTL:P3D
REFRESH-INTERVAL:P3D
CALSCALE:GREGORIAN
BEGIN:VEVENT
DTSTART:20210202T020000Z
DTEND:20210202T040000Z
X-MICROSOFT-CDO-ALLDAYEVENT:FALSE
SUMMARY:Virtual Meeting with DG Taxation\, Suryo Utomo
DESCRIPTION:
X-ALT-DESC;FMTTYPE=text/html:
LOCATION:
UID:e.9078.8382
SEQUENCE:3
DTSTAMP:20260420T020524Z
URL:http://memberzone.usasean.org/events/details/virtual-meeting-with-dg-taxation-suryo-utomo-8382
END:VEVENT

END:VCALENDAR
