BEGIN:VCALENDAR
VERSION:2.0
PRODID:-//ChamberMaster//Event Calendar 2.0//EN
METHOD:PUBLISH
X-PUBLISHED-TTL:P3D
REFRESH-INTERVAL:P3D
CALSCALE:GREGORIAN
BEGIN:VEVENT
DTSTART:20221006T070000Z
DTEND:20221006T074500Z
X-MICROSOFT-CDO-ALLDAYEVENT:FALSE
SUMMARY:Virtual Meeting with Brunei Ministry of Transport and Infocommunication
DESCRIPTION:Meeting with the newly appointed Minister of Transport and Infocommunication\, Pengiran Dato Shamhary\n\n\n\nThis call is a joint call for US-ABC ICT Committee and 2022 Brunei Virtual Business Mission.\n\n\n\nLimited to speaking roles
X-ALT-DESC;FMTTYPE=text/html:<br />\n<span style="font-family:arial\;"><span style="color: rgb(0\, 0\, 0)\;">Meeting with the newly appointed Minister of Transport and Infocommunication\, Pengiran Dato Shamhary</span><br />\n<br />\nThis call is a joint call for US-ABC ICT Committee and 2022 Brunei Virtual Business Mission.<br />\n<br />\nLimited to speaking roles</span>
LOCATION:
UID:e.9078.8883
SEQUENCE:3
DTSTAMP:20260421T205440Z
URL:http://memberzone.usasean.org/events/details/virtual-meeting-with-brunei-ministry-of-transport-and-infocommunication-8883
END:VEVENT

END:VCALENDAR
