BEGIN:VCALENDAR
VERSION:2.0
PRODID:-//ChamberMaster//Event Calendar 2.0//EN
METHOD:PUBLISH
X-PUBLISHED-TTL:P3D
REFRESH-INTERVAL:P3D
CALSCALE:GREGORIAN
BEGIN:VEVENT
DTSTART:20221017T000000Z
DTEND:20221017T010000Z
X-MICROSOFT-CDO-ALLDAYEVENT:FALSE
SUMMARY:Virtual Meeting with Brunei Minister of Finance and Economy II
DESCRIPTION:Meeting with Minister at Prime Minister's Office\, Minister of Finance and Economy II Dato Amin Liew\n\nThis call is a joint call for FS Committee 's IMF/EB sideline meeting and 2022 Brunei Virtual Business Mission.
X-ALT-DESC;FMTTYPE=text/html:<p><br />\n<span style="font-family: arial\;">Meeting with Minister at Prime Minister&rsquo\;s Office\, Minister of Finance and Economy II Dato Amin Liew</span></p>\n\n<p>This call is a joint call for FS Committee &#39\;s IMF/EB sideline meeting and 2022 Brunei Virtual Business Mission.</p>\n
LOCATION:
UID:e.9078.8879
SEQUENCE:3
DTSTAMP:20260421T205534Z
URL:http://memberzone.usasean.org/events/details/virtual-meeting-with-brunei-minister-of-finance-and-economy-ii-8879
END:VEVENT

END:VCALENDAR
