BEGIN:VCALENDAR
VERSION:2.0
PRODID:-//ChamberMaster//Event Calendar 2.0//EN
METHOD:PUBLISH
X-PUBLISHED-TTL:P3D
REFRESH-INTERVAL:P3D
CALSCALE:GREGORIAN
BEGIN:VEVENT
DTSTART:20221006T010000Z
DTEND:20221006T014500Z
X-MICROSOFT-CDO-ALLDAYEVENT:FALSE
SUMMARY:Virtual Meeting with Brunei Darussalam Central Bank
DESCRIPTION:Meeting with Brunei Darussalam Central Bank's Managing Director\, Ms Rokiah Badar.\n\n\n\nThis call is a joint call for FS Committee's IMF WB sideline meeting and 2022 Brunei Virtual Business Mission.
X-ALT-DESC;FMTTYPE=text/html:<br />\nMeeting with Brunei Darussalam Central Bank&rsquo\;s Managing Director\, Ms Rokiah Badar.<br />\n<br />\nThis call is a joint call for FS Committee&#39\;s IMF WB sideline meeting and 2022 Brunei Virtual Business Mission.<br />\n&nbsp\;
LOCATION:
UID:e.9078.8880
SEQUENCE:3
DTSTAMP:20260421T205056Z
URL:http://memberzone.usasean.org/events/details/virtual-meeting-with-brunei-darussalam-central-bank-8880
END:VEVENT

END:VCALENDAR
