BEGIN:VCALENDAR
VERSION:2.0
PRODID:-//ChamberMaster//Event Calendar 2.0//EN
METHOD:PUBLISH
X-PUBLISHED-TTL:P3D
REFRESH-INTERVAL:P3D
CALSCALE:GREGORIAN
BEGIN:VEVENT
DTSTART:20201130T070000Z
DTEND:20201130T084500Z
X-MICROSOFT-CDO-ALLDAYEVENT:FALSE
SUMMARY:Virtual Meeting "Public Consultation and Outreach on the Implementation of Law 11/2020 on Job Creation"
DESCRIPTION:
X-ALT-DESC;FMTTYPE=text/html:
LOCATION:
UID:e.9078.8351
SEQUENCE:3
DTSTAMP:20260420T064455Z
URL:http://memberzone.usasean.org/events/details/virtual-meeting-public-consultation-and-outreach-on-the-implementation-of-law-11-2020-on-job-creation-8351
END:VEVENT

END:VCALENDAR
