BEGIN:VCALENDAR
VERSION:2.0
PRODID:-//ChamberMaster//Event Calendar 2.0//EN
METHOD:PUBLISH
X-PUBLISHED-TTL:P3D
REFRESH-INTERVAL:P3D
CALSCALE:GREGORIAN
BEGIN:VEVENT
DTSTART:20201210T010000Z
DTEND:20201210T030000Z
X-MICROSOFT-CDO-ALLDAYEVENT:FALSE
SUMMARY:Virtual Meeting of the Singapore Joint Cyber Security Working Group - Dec 10\, 2020
DESCRIPTION:The Council is pleased to invite you to the upcoming meeting of the Singapore Joint Cyber Security Working Group (JCSWG)\, a collaboration between Singapore's Cyber Security Agency (CSA)\, the U.S. Embassy in Singapore\, and the U.S. private sector (as represented by AmCham Singapore\, BSA\, and the Council). This JCSWG will feature discussions on emerging threats and trends\, as well as upcoming proposed initiatives for 2021.
X-ALT-DESC;FMTTYPE=text/html:<span style="display: inline !important\; float: none\; background-color: rgb(255\, 255\, 255)\; color: rgb(51\, 51\, 51)\; font-family: &quot\;Arial&quot\;\,sans-serif\; font-size: 12pt\; font-style: normal\; font-variant: normal\; font-weight: 400\; letter-spacing: normal\; orphans: 2\; text-align: left\; text-decoration: none\; text-indent: 0px\; text-transform: none\; -webkit-text-stroke-width: 0px\; white-space: normal\; word-spacing: 0px\;">The&nbsp\;Council is pleased to invite you to&nbsp\;the upcoming meeting of the Singapore Joint Cyber Security Working Group (JCSWG)\, a collaboration between Singapore&#39\;s Cyber Security Agency (CSA)\, the U.S. Embassy in Singapore\, and&nbsp\;the U.S. private sector (as represented by AmCham Singapore\, BSA\, and the Council). This JCSWG will feature discussions on emerging threats and trends\, as well as upcoming proposed initiatives for 2021.&nbsp\;</span>
LOCATION:Dial-in details will be provided upon registration.
UID:e.9078.8356
SEQUENCE:3
DTSTAMP:20260420T051027Z
URL:http://memberzone.usasean.org/events/details/virtual-meeting-of-the-singapore-joint-cyber-security-working-group-dec-10-2020-8356
END:VEVENT

END:VCALENDAR
