BEGIN:VCALENDAR
VERSION:2.0
PRODID:-//ChamberMaster//Event Calendar 2.0//EN
METHOD:PUBLISH
X-PUBLISHED-TTL:P3D
REFRESH-INTERVAL:P3D
CALSCALE:GREGORIAN
BEGIN:VEVENT
DTSTART:20200910T130000Z
DTEND:20200910T140000Z
X-MICROSOFT-CDO-ALLDAYEVENT:FALSE
SUMMARY:Virtual Discussion with Murray Hiebert on Book "Under Beijing's Shadow"
DESCRIPTION:The Council is pleased to invite members to a discussion with Murray Hiebert on his newly released book\, Under Beijing's Shadow: Southeast Asia's China Challenge.
X-ALT-DESC;FMTTYPE=text/html:<span style="font-family:georgia\,serif\;"><span style="font-size:12.0pt\;">The Council is pleased to invite members to a discussion with Murray Hiebert on his newly released book\, <em>Under Beijing&#39\;s Shadow: Southeast Asia&#39\;s China Challenge</em>.&nbsp\;</span></span>
LOCATION:
UID:e.9078.8269
SEQUENCE:3
DTSTAMP:20260420T095224Z
URL:http://memberzone.usasean.org/events/details/virtual-discussion-with-murray-hiebert-on-book-under-beijing-s-shadow-8269
END:VEVENT

END:VCALENDAR
