BEGIN:VCALENDAR
VERSION:2.0
PRODID:-//ChamberMaster//Event Calendar 2.0//EN
METHOD:PUBLISH
X-PUBLISHED-TTL:P3D
REFRESH-INTERVAL:P3D
CALSCALE:GREGORIAN
BEGIN:VEVENT
DTSTART:20210312T020000Z
DTEND:20210312T033000Z
X-MICROSOFT-CDO-ALLDAYEVENT:FALSE
SUMMARY:Virtual Dialogue on ASEAN Economic Community
DESCRIPTION:
X-ALT-DESC;FMTTYPE=text/html:
LOCATION:
UID:e.9078.8403
SEQUENCE:3
DTSTAMP:20260420T000713Z
URL:http://memberzone.usasean.org/events/details/virtual-dialogue-on-asean-economic-community-8403
END:VEVENT

END:VCALENDAR
