BEGIN:VCALENDAR
VERSION:2.0
PRODID:-//ChamberMaster//Event Calendar 2.0//EN
METHOD:PUBLISH
X-PUBLISHED-TTL:P3D
REFRESH-INTERVAL:P3D
CALSCALE:GREGORIAN
BEGIN:VEVENT
DTSTART:20200730T130000Z
DTEND:20200730T140000Z
X-MICROSOFT-CDO-ALLDAYEVENT:FALSE
SUMMARY:Virtual Consultation with Incoming Philippines Commercial Officer Darrel Ching
DESCRIPTION:The Council is pleased to present to members the opportunity to meet and engage incoming Philippines Commercial Officer Darrel Ching
X-ALT-DESC;FMTTYPE=text/html:The Council is pleased to present to members the opportunity to meet and engage incoming Philippines Commercial Officer Darrel Ching
LOCATION:WebEx details will be provided
UID:e.9078.8257
SEQUENCE:3
DTSTAMP:20260420T123954Z
URL:http://memberzone.usasean.org/events/details/virtual-consultation-with-incoming-philippines-commercial-officer-darrel-ching-8257
END:VEVENT

END:VCALENDAR
