BEGIN:VCALENDAR
VERSION:2.0
PRODID:-//ChamberMaster//Event Calendar 2.0//EN
METHOD:PUBLISH
X-PUBLISHED-TTL:P3D
REFRESH-INTERVAL:P3D
CALSCALE:GREGORIAN
BEGIN:VEVENT
DTSTART:20210211T020000Z
DTEND:20210211T030000Z
X-MICROSOFT-CDO-ALLDAYEVENT:FALSE
SUMMARY:Virtual Consultation Meeting with DG Customs and Excise\, Heru Pambudi
DESCRIPTION:
X-ALT-DESC;FMTTYPE=text/html:
LOCATION:
UID:e.9078.8384
SEQUENCE:3
DTSTAMP:20260420T033324Z
URL:http://memberzone.usasean.org/events/details/virtual-consultation-meeting-with-dg-customs-and-excise-heru-pambudi-8384
END:VEVENT

END:VCALENDAR
