BEGIN:VCALENDAR
VERSION:2.0
PRODID:-//ChamberMaster//Event Calendar 2.0//EN
METHOD:PUBLISH
X-PUBLISHED-TTL:P3D
REFRESH-INTERVAL:P3D
CALSCALE:GREGORIAN
BEGIN:VEVENT
DTSTART:20201124T084500Z
DTEND:20201124T094500Z
X-MICROSOFT-CDO-ALLDAYEVENT:FALSE
SUMMARY:Virtual Consultation at the 26 ASEAN Transport Ministers Meeting (ATM)
DESCRIPTION:Please be informed that the 26th ASEAN Transport Ministers Meeting (ATM) will convene over Bluejeans on November 24. The Council has confirmed a 1-hour timeslot for a virtual Consultation Session between US-ABC and the 10 ASEAN Transport Ministers from 4:45 PM - 5:45 PM SGT.
X-ALT-DESC;FMTTYPE=text/html:<span style="font-size:16px\;"><span style="font-family:arial\;">Please be informed that the 26<sup>th&nbsp\;</sup>ASEAN Transport Ministers Meeting (ATM) will convene over Bluejeans on November 24. The Council&nbsp\;has confirmed a 1-hour&nbsp\;timeslot for a virtual Consultation Session between&nbsp\;US<span style="color:black\;">-</span>ABC and the 10 ASEAN Transport Ministers&nbsp\;from 4:45 PM - 5:45 PM SGT.</span></span>
LOCATION:
UID:e.9078.8335
SEQUENCE:3
DTSTAMP:20260420T064331Z
URL:http://memberzone.usasean.org/events/details/virtual-consultation-at-the-26-asean-transport-ministers-meeting-atm-8335
END:VEVENT

END:VCALENDAR
