BEGIN:VCALENDAR
VERSION:2.0
PRODID:-//ChamberMaster//Event Calendar 2.0//EN
METHOD:PUBLISH
X-PUBLISHED-TTL:P3D
REFRESH-INTERVAL:P3D
CALSCALE:GREGORIAN
BEGIN:VEVENT
DTSTART:20210924T010000Z
DTEND:20210924T020000Z
X-MICROSOFT-CDO-ALLDAYEVENT:FALSE
SUMMARY:Virtual Briefing with US CDC Eric Dziuban
DESCRIPTION:The Council is pleased to invite you to a virtual briefing with US CDC Vietnam\, featuring Country Director Eric Dziuban. During the call\, we will hear from the Country Director the CDC assessment of Vietnam's pandemic control strategy\, vaccination rollout\, and reopening plans.
X-ALT-DESC;FMTTYPE=text/html:The Council is pleased to invite you to a virtual briefing with US CDC Vietnam\, featuring Country Director Eric Dziuban. During the call\, we will hear from the Country Director the CDC assessment of Vietnam&#39\;s pandemic control strategy\, vaccination rollout\, and reopening plans.&nbsp\;
LOCATION:Virtual
UID:e.9078.8577
SEQUENCE:3
DTSTAMP:20260419T155545Z
URL:http://memberzone.usasean.org/events/details/virtual-briefing-with-us-cdc-eric-dziuban-8577
END:VEVENT

END:VCALENDAR
