BEGIN:VCALENDAR
VERSION:2.0
PRODID:-//ChamberMaster//Event Calendar 2.0//EN
METHOD:PUBLISH
X-PUBLISHED-TTL:P3D
REFRESH-INTERVAL:P3D
CALSCALE:GREGORIAN
BEGIN:VEVENT
DTSTART:20201202T200000Z
DTEND:20201202T210000Z
X-MICROSOFT-CDO-ALLDAYEVENT:FALSE
SUMMARY:Virtual Briefing with U.S. International Development Finance Corporation (DFC)
DESCRIPTION:
X-ALT-DESC;FMTTYPE=text/html:
LOCATION:
UID:e.9078.8347
SEQUENCE:3
DTSTAMP:20260420T050843Z
URL:http://memberzone.usasean.org/events/details/virtual-briefing-with-u-s-international-development-finance-corporation-dfc-8347
END:VEVENT

END:VCALENDAR
