BEGIN:VCALENDAR
VERSION:2.0
PRODID:-//ChamberMaster//Event Calendar 2.0//EN
METHOD:PUBLISH
X-PUBLISHED-TTL:P3D
REFRESH-INTERVAL:P3D
CALSCALE:GREGORIAN
BEGIN:VEVENT
DTSTART:20210329T020000Z
DTEND:20210329T030000Z
X-MICROSOFT-CDO-ALLDAYEVENT:FALSE
SUMMARY:Virtual Briefing with Indonesian Chamber of Commerce and Industry (KADIN) on Omnibus Law Implementing Regulations
DESCRIPTION:
X-ALT-DESC;FMTTYPE=text/html:
LOCATION:
UID:e.9078.8437
SEQUENCE:3
DTSTAMP:20260420T001022Z
URL:http://memberzone.usasean.org/events/details/virtual-briefing-with-indonesian-chamber-of-commerce-and-industry-kadin-on-omnibus-law-implementing-regulations-8437
END:VEVENT

END:VCALENDAR
