BEGIN:VCALENDAR
VERSION:2.0
PRODID:-//ChamberMaster//Event Calendar 2.0//EN
METHOD:PUBLISH
X-PUBLISHED-TTL:P3D
REFRESH-INTERVAL:P3D
CALSCALE:GREGORIAN
BEGIN:VEVENT
DTSTART:20220826T020000Z
DTEND:20220826T030000Z
X-MICROSOFT-CDO-ALLDAYEVENT:FALSE
SUMMARY:Virtual Briefing with Baker & McKenzie on Vietnam Decree 53
DESCRIPTION:Virtual Briefing with Baker & McKenzie\n\nVietnam Decree 53   Guidelines on Several Articles under the Law On Cybersecurity
X-ALT-DESC;FMTTYPE=text/html:<span style="font-size:14px\;"><strong><span style="letter-spacing:0.75pt\;"><span style="color:#333333\;"><span style="font-family:arial\,sans-serif\;">Virtual Briefing with Baker &amp\; McKenzie</span></span></span></strong><br />\n<strong><span style="letter-spacing:0.75pt\;"><span style="color:#333333\;"><span style="font-family:arial\,sans-serif\;">Vietnam Decree 53 &ndash\; Guidelines on Several Articles under the Law On Cybersecurity</span></span></span></strong></span>
LOCATION:Event will be conducted via Zoom
UID:e.9078.8846
SEQUENCE:3
DTSTAMP:20260422T001157Z
URL:http://memberzone.usasean.org/events/details/virtual-briefing-with-baker-mckenzie-on-vietnam-decree-53-8846
END:VEVENT

END:VCALENDAR
