BEGIN:VCALENDAR
VERSION:2.0
PRODID:-//ChamberMaster//Event Calendar 2.0//EN
METHOD:PUBLISH
X-PUBLISHED-TTL:P3D
REFRESH-INTERVAL:P3D
CALSCALE:GREGORIAN
BEGIN:VEVENT
DTSTART:20211006T123000Z
DTEND:20211006T131500Z
X-MICROSOFT-CDO-ALLDAYEVENT:FALSE
SUMMARY:Virtual Briefing on Zoohackathon 2021
DESCRIPTION:Please join us for a virtual briefing by the U.S. Department of State on Zoohackathon 2021. Zoohackathon is a global competition that brings together university students and coders to develop innovative technology solutions to combat wildlife trafficking and associated challenges.\n\n \n\nZoohackathon 2021\n\nThis year\, the Department of State is proud to co-host nine virtual and in-person Zoohackathon events across the world in October and November. Each event will take place over two-and-a-half days and feature discussions about local challenges\, presentations from wildlife and technology experts\, networking opportunities\, and insights from partners and mentors. Participants will compete for a variety of local prizes\, and a panel of expert judges will evaluate the winning solution from each event to choose the winner of the 2021 global prize.\n\n \n\nSingle Country Events:\n\n  Bolivia\n\n  The Democratic Republic of the Congo\n\n  The Republic of the Congo\n\n  Gabon\n\n  Saudi Arabia\n\n  Uganda\n\n  Vietnam\n\n \n\nFighting Crime Through Zoohackathon\n\nZoohackathon engages new audiences to develop innovative technology solutions to combat wildlife trafficking and builds cross-sector partnerships across governments\, the private sector\, and intergovernmental stakeholders. In 2020\, approximately 700 participants from 38 countries generated more than 135 demo solutions ranging from apps that use blockchain technology to verify whether animals come from legal breeding sites to monitoring tools that collect data about the illegal trade of wildlife online from social media platforms. Furthermore\, almost 10 million people worldwide engaged with Zoohackathon and learned about the importance of combating wildlife trafficking via social media.\n\n\n\nTo register\, please email Dylan Kean (dkean@usasean.org).
X-ALT-DESC;FMTTYPE=text/html:<span style="font-size:12px\;"><span style="font-family:verdana\,sans-serif\;">Please join us for a virtual briefing by the U.S. Department of State on Zoohackathon 2021. Zoohackathon is a global competition that brings together university students and coders to develop innovative technology solutions to combat wildlife trafficking and associated challenges.</span><br />\n&nbsp\;<br />\n<strong><span style="font-family:verdana\,sans-serif\;">Zoohackathon 2021</span></strong><br />\n<span style="font-family:verdana\,sans-serif\;">This year\, the Department of State is proud to co-host nine virtual and in-person Zoohackathon events across the world in October and November. Each event will take place over two-and-a-half days and feature discussions about local challenges\, presentations from wildlife and technology experts\, networking opportunities\, and insights from partners and mentors. Participants will compete for a variety of local prizes\, and a panel of expert judges will evaluate the winning solution from each event to choose the winner of the 2021 global prize.</span><br />\n&nbsp\;<br />\n<strong><span style="font-family:verdana\,sans-serif\;">Single Country Events:</span></strong><br />\n<span style="font-family:verdana\,sans-serif\;">&bull\; Bolivia</span><br />\n<span style="font-family:verdana\,sans-serif\;">&bull\; The Democratic Republic of the Congo</span><br />\n<span style="font-family:verdana\,sans-serif\;">&bull\; The Republic of the Congo</span><br />\n<span style="font-family:verdana\,sans-serif\;">&bull\; Gabon</span><br />\n<span style="font-family:verdana\,sans-serif\;">&bull\; Saudi Arabia</span><br />\n<span style="font-family:verdana\,sans-serif\;">&bull\; Uganda</span><br />\n<span style="background:yellow\;"><span style="font-family:verdana\,sans-serif\;">&bull\; Vietnam</span></span><br />\n&nbsp\;<br />\n<strong><span style="font-family:verdana\,sans-serif\;">Fighting Crime Through Zoohackathon</span></strong><br />\n<span style="font-family:verdana\,sans-serif\;">Zoohackathon engages new audiences to develop innovative technology solutions to combat wildlife trafficking and builds cross-sector partnerships across governments\, the private sector\, and intergovernmental stakeholders. In 2020\, approximately 700 participants from 38 countries generated more than 135 demo solutions ranging from apps that use blockchain technology to verify whether animals come from legal breeding sites to monitoring tools that collect data about the illegal trade of wildlife online from social media platforms. Furthermore\, almost 10 million people worldwide engaged with Zoohackathon and learned about the importance of combating wildlife trafficking via social media.</span><br />\n<br />\n<span style="background:white\;"><span style="color:#333333\;"><span style="font-family:verdana\,sans-serif\;">To register\, please email Dylan Kean (<a href="mailto:dkean@usasean.org">dkean@usasean.org</a>).&nbsp\;</span></span></span></span>
LOCATION:
UID:e.9078.8599
SEQUENCE:3
DTSTAMP:20260419T123832Z
URL:http://memberzone.usasean.org/events/details/virtual-briefing-on-zoohackathon-2021-8599
END:VEVENT

END:VCALENDAR
