BEGIN:VCALENDAR
VERSION:2.0
PRODID:-//ChamberMaster//Event Calendar 2.0//EN
METHOD:PUBLISH
X-PUBLISHED-TTL:P3D
REFRESH-INTERVAL:P3D
CALSCALE:GREGORIAN
BEGIN:VEVENT
DTSTART:20210301T010000Z
DTEND:20210301T020000Z
X-MICROSOFT-CDO-ALLDAYEVENT:FALSE
SUMMARY:Virtual Briefing on Vietnam 13th National Party Congress with Ambassador Kritenbrink
DESCRIPTION:Virtual briefing on the results of the 13th National Congress of the Communist Party of Vietnam with U.S. Ambassador to Vietnam Daniel Kritenbrink.
X-ALT-DESC;FMTTYPE=text/html:<span style="font-size:14px\;"><span style="font-family:arial\;">Virtual briefing on the results of the 13th National Congress of the Communist Party of Vietnam with U.S. Ambassador to Vietnam Daniel Kritenbrink.</span></span>
LOCATION:Zoom
UID:e.9078.8391
SEQUENCE:3
DTSTAMP:20260420T020735Z
URL:http://memberzone.usasean.org/events/details/virtual-briefing-on-vietnam-13th-national-party-congress-with-ambassador-kritenbrink-8391
END:VEVENT

END:VCALENDAR
