BEGIN:VCALENDAR
VERSION:2.0
PRODID:-//ChamberMaster//Event Calendar 2.0//EN
METHOD:PUBLISH
X-PUBLISHED-TTL:P3D
REFRESH-INTERVAL:P3D
CALSCALE:GREGORIAN
BEGIN:VEVENT
DTSTART:20210210T030000Z
DTEND:20210210T040000Z
X-MICROSOFT-CDO-ALLDAYEVENT:FALSE
SUMMARY:Virtual Briefing on Vietnam 13th National Party Congress
DESCRIPTION:Virtual briefing on the results of the 13th National Congress of the Communist Party of Vietnam.
X-ALT-DESC;FMTTYPE=text/html:<span style="font-size:14px\;"><span style="font-family:arial\;">Virtual briefing on the results of the 13th National Congress of the Communist Party of Vietnam.</span></span>
LOCATION:Zoom
UID:e.9078.8386
SEQUENCE:3
DTSTAMP:20260420T020502Z
URL:http://memberzone.usasean.org/events/details/virtual-briefing-on-vietnam-13th-national-party-congress-8386
END:VEVENT

END:VCALENDAR
