BEGIN:VCALENDAR
VERSION:2.0
PRODID:-//ChamberMaster//Event Calendar 2.0//EN
METHOD:PUBLISH
X-PUBLISHED-TTL:P3D
REFRESH-INTERVAL:P3D
CALSCALE:GREGORIAN
BEGIN:VEVENT
DTSTART:20210817T123000Z
DTEND:20210817T133000Z
X-MICROSOFT-CDO-ALLDAYEVENT:FALSE
SUMMARY:Virtual Briefing on Certified Plastic Credit System in Vietnam (TONTOTON)
DESCRIPTION:Please join the US-ASEAN Business Council for a virtual briefing on the world's first independently certified and verified plastic credit system\, launched recently in Vietnam. The one-ton orphan plastic credit is a joint initiative of ClimeCo\, a management and environmental commodity development company based in the United States\, and TONTOTON\, a Vietnamese project developer that removes orphan\, non-value plastic from the local environment and reuses the gathered plastic as fuel. The independent standard was awarded by Zero Plastic Oceans and the audit by Control Union Certifications.\n\n\n\nTo register\, please contact Bernie Baskin (bbaskin@usasean.org).
X-ALT-DESC;FMTTYPE=text/html:<span style="font-family: verdana\; font-size: 12px\;">Please join the US-ASEAN Business Council for a virtual briefing on the world&#39\;s first independently certified and verified plastic credit system\, launched recently in Vietnam. The one-ton orphan plastic credit is a joint initiative of&nbsp\;ClimeCo\,&nbsp\;a management and environmental commodity development company based in the United States\, and&nbsp\;TONTOTON\,&nbsp\;a Vietnamese project developer that removes orphan\, non-value plastic from the local environment and reuses the gathered plastic as fuel. The independent standard was awarded by&nbsp\;Zero Plastic Oceans&nbsp\;and the audit by&nbsp\;Control Union Certifications.<br />\n<br />\nTo register\, please contact Bernie Baskin (bbaskin@usasean.org).</span>
LOCATION:
UID:e.9078.8539
SEQUENCE:3
DTSTAMP:20260419T155932Z
URL:http://memberzone.usasean.org/events/details/virtual-briefing-on-certified-plastic-credit-system-in-vietnam-tontoton-8539
END:VEVENT

END:VCALENDAR
