BEGIN:VCALENDAR
VERSION:2.0
PRODID:-//ChamberMaster//Event Calendar 2.0//EN
METHOD:PUBLISH
X-PUBLISHED-TTL:P3D
REFRESH-INTERVAL:P3D
CALSCALE:GREGORIAN
BEGIN:VEVENT
DTSTART:20130927T150000Z
DTEND:20130927T180000Z
X-MICROSOFT-CDO-ALLDAYEVENT:FALSE
SUMMARY:Vietnam Investment Forum with Prime Minister Dung
DESCRIPTION:The International Economic Alliance\, the US-ASEAN Business Council\, the U.S. Chamber of Commerce\n\nare pleased to invite you to a\n\n\n\nVietnam Investment Forum \n\n\n\nfeaturing a luncheon\n\nwith a keynote address by\n\n\n\nHis Excellency Nguyen Tan Dung \n\nPrime Minister of the Socialist Republic of Vietnam\n\n\n\nfollowed by a panel discussion
X-ALT-DESC;FMTTYPE=text/html:<span style="font-size: 14px\;"><span style="font-family: arial\;"><span style="letter-spacing: 0.75pt\;">The International Economic Alliance\, the US-ASEAN Business Council\, the U.S. Chamber of Commerce<br />\nare pleased to invite you to a</span><br />\n<br />\n<span style="letter-spacing: 0.75pt\;"><span style="color: rgb(51\, 51\, 51)\;">Vietnam Investment Forum&nbsp\;</span></span><br />\n<br />\n<span style="letter-spacing: 0.75pt\;"><span style="color: rgb(51\, 51\, 51)\;">featuring a luncheon<br />\nwith a keynote address by</span></span><br />\n<br />\n<strong><span style="letter-spacing: 0.75pt\;"><span style="color: rgb(51\, 51\, 51)\;">His Excellency Nguyen Tan Dung</span></span></strong>&nbsp\;<br />\n<strong><strong><span style="letter-spacing: 0.75pt\;"><span style="color: rgb(51\, 51\, 51)\;">Prime Minister of the Socialist Republic of&nbsp\;Vietnam</span></span></strong></strong><br />\n<br />\n<span style="letter-spacing: 0.75pt\;"><span style="color: rgb(51\, 51\, 51)\;">followed by a panel discussion</span></span></span></span><br />\n<br />\n
LOCATION:Harvard Club 27 West 44th St. New York\, New York
UID:e.9078.916
SEQUENCE:3
DTSTAMP:20260421T174050Z
URL:http://memberzone.usasean.org/events/details/vietnam-investment-forum-with-prime-minister-dung-09-27-2013-916
END:VEVENT

END:VCALENDAR
