BEGIN:VCALENDAR
VERSION:2.0
PRODID:-//ChamberMaster//Event Calendar 2.0//EN
METHOD:PUBLISH
X-PUBLISHED-TTL:P3D
REFRESH-INTERVAL:P3D
CALSCALE:GREGORIAN
BEGIN:VEVENT
DTSTART;VALUE=DATE:20150511
DTEND;VALUE=DATE:20150512
TRANSP:TRANSPARENT
X-MICROSOFT-CDO-ALLDAYEVENT:TRUE
SUMMARY:Vietnam/ICT Follow Up Meetings
DESCRIPTION:
X-ALT-DESC;FMTTYPE=text/html:
LOCATION:
UID:e.9078.1557
SEQUENCE:3
DTSTAMP:20260419T133141Z
URL:http://memberzone.usasean.org/events/details/vietnam-ict-follow-up-meetings-05-11-2015-1557
END:VEVENT

END:VCALENDAR
