BEGIN:VCALENDAR
VERSION:2.0
PRODID:-//ChamberMaster//Event Calendar 2.0//EN
METHOD:PUBLISH
X-PUBLISHED-TTL:P3D
REFRESH-INTERVAL:P3D
CALSCALE:GREGORIAN
BEGIN:VEVENT
DTSTART;VALUE=DATE:20141211
DTEND;VALUE=DATE:20141212
TRANSP:TRANSPARENT
X-MICROSOFT-CDO-ALLDAYEVENT:TRUE
SUMMARY:Vietnam Career Development Speaker Series #8
DESCRIPTION:Employment in Multinational Companies   Does it help or hurt coming from small towns?\n\n\n \n\nSpeakers are each expected to make a presentation introducing their respective company\, what they would expect from their employees and how their employees enjoy working with the company. Although not required\, company representatives are encouraged to talk about any employment opportunities their companies may have for young college graduates in Vietnam. \n\n\n\nSpeakers need also to address the advantages and disadvantages of employees coming from small towns in MNCs and tell success stories about those who overcome shortcomings and make it far in their career path.\n\n\n\nThe session is meant to intrigue young Vietnamese about global brand names such as members of the US-ASEAN Business Council\, inspire them with corporate business philosophy and culture\, and share with them practical ideas about how to be competitive in today's job market.\n\n\n\nBackground: The US-ASEAN Business Council Board of Directors has requested that the Council conduct activities to engage future generations in ASEAN countries to help them build a peaceful and properous region. The Council's "Career Development Program for Vietnamese Youths: How US companies can help" is one such activity.\n\n \n\nIn reality\, for many years now\, Council member companies have been running their individual programs to help young people in ASEAN develop the right skill set for the growing economies in the region.\n\n \n\nThe Council's initiative to engage young people in Vietnam will not dilute or distract attention from those individual company programs but rather will enhance them by collating information and resources from these programs and present them in one convenient package to the target audience.\n\n \n\nCareer development guidance is of dire need in Vietnam. About 1.5 million young Vietnamese join the work force every year and the Vietnamese government has been struggling to find enough employment\, much less high-quality jobs\, for them. The irony is it is not because there are not enough jobs on the market\, but it is because most of these young people do not have the right skill set required by businesses\, both foreign and domestic\, in Vietnam.\n\n \n\nCouncil companies have a lot of expertise and resources to help Vietnam fill this void in their educational and vocational system. We can do that with the Council's "Career Development Program for Vietnamese Youths: How US companies can help".
X-ALT-DESC;FMTTYPE=text/html:<p class="MsoListParagraphCxSpFirst" style="margin: 0in 0in 0pt\; mso-add-space: auto\;"><em><span style="color: rgb(0\, 0\, 128)\;"><strong><span style="font-family: arial\;"><span calibri="" new="" style="line-height: 115%\;" times="">Employment in Multinational Companies &ndash\; Does it help or hurt coming from small towns?</span></span></strong></span></em></p>\n\n<pre class="MsoListParagraphCxSpFirst" style="margin: 0in 0in 0pt\; mso-add-space: auto\;">\n&nbsp\;</pre>\n\n<p class="MsoListParagraphCxSpFirst" style="margin: 0in 0in 0pt\; mso-add-space: auto\;"><span style="color: rgb(0\, 0\, 128)\;"><span style="font-family: arial\;"><span calibri="" lang="VI" style="line-height: 115%\;">Speakers are each expected to make a presentation introducing their respective company\, what they would expect from their employees and how their employees enjoy working with the company. Although not required\, company representatives are encouraged to talk about any employment opportunities their companies may have for young college graduates in Vietnam</span></span><em><span style="font-family: arial\;"><span calibri="" lang="VI" style="line-height: 115%\;">. </span></span></em></span><br />\n<br />\n<em><span style="color: rgb(0\, 0\, 128)\;"><span style="font-family: arial\;"><span calibri="" style="line-height: 115%\;">Speakers need also to address the advantages and disadvantages of employees coming from small towns</span><span calibri="" lang="VI" style="line-height: 115%\;">&nbsp\;</span><span calibri="" style="line-height: 115%\;">in MNCs and tell success stories about those who overcome shortcomings and make it far in their career path.</span></span></span></em></p>\n\n<p class="MsoListParagraphCxSpLast" style="margin: 0in 0in 10pt\; mso-add-space: auto\;"><br />\n<span style="color: rgb(0\, 0\, 128)\;"><span style="font-family: arial\;"><span calibri="" lang="VI" style="line-height: 115%\;">The session is meant to intrigue young Vietnamese about global brand names such as members of the US-ASEAN Business Council\, inspire them with corporate business philosophy and culture\, and share with them practical ideas about how to be competitive in today&rsquo\;s <em>job market</em>.</span></span></span><br />\n<br />\n<span style="color: rgb(0\, 0\, 128)\;"><span style="font-family: arial\;"><span style="font-size: 12px\;"><strong>Background: </strong>The US-ASEAN Business Council Board of Directors has requested that the Council conduct activities to engage future generations in ASEAN countries to help them build a peaceful and properous region. The Council&rsquo\;s &ldquo\;Career Development Program for Vietnamese Youths: How US companies can help&rdquo\; is one such activity.<br />\n&nbsp\;<br />\nIn reality\, for many years now\, Council member companies have been running their individual programs to help young people in ASEAN develop the right skill set for the growing economies in the region.<br />\n&nbsp\;<br />\nThe Council&rsquo\;s initiative to engage young people in Vietnam will not dilute or distract attention from those individual company programs but rather will enhance them by collating information and resources from these programs and present them in one convenient package to the target audience.<br />\n&nbsp\;<br />\nCareer development guidance is of dire need in Vietnam. About 1.5 million young Vietnamese join the work force every year and the Vietnamese government has been struggling to find enough employment\, much less high-quality jobs\, for them. The irony is it is not because there are not enough jobs on the market\, but it is because most of these young people do not have the right skill set required by businesses\, both foreign and domestic\, in Vietnam.<br />\n&nbsp\;<br />\nCouncil companies have a lot of expertise and resources to help Vietnam fill this void in their educational and vocational system. We can do that with the Council&rsquo\;s &ldquo\;Career Development Program for Vietnamese Youths: How US companies can help&rdquo\;.</span></span></span></p>\n
LOCATION:Da Nang Universtiy\, Da Nang city\, Vietnam
UID:e.9078.1316
SEQUENCE:3
DTSTAMP:20260419T235240Z
URL:http://memberzone.usasean.org/events/details/vietnam-career-development-speaker-series-8-12-11-2014-1316
END:VEVENT

END:VCALENDAR
