BEGIN:VCALENDAR
VERSION:2.0
PRODID:-//ChamberMaster//Event Calendar 2.0//EN
METHOD:PUBLISH
X-PUBLISHED-TTL:P3D
REFRESH-INTERVAL:P3D
CALSCALE:GREGORIAN
BEGIN:VEVENT
DTSTART;VALUE=DATE:20140630
DTEND;VALUE=DATE:20140701
TRANSP:TRANSPARENT
X-MICROSOFT-CDO-ALLDAYEVENT:TRUE
SUMMARY:Vietnam Career Development Speaker Series #7
DESCRIPTION:This student dialogue aims to engage and inspire the country's youth about:\n\n\n	Playing a role in developing Sustainable Agriculture in Vietnam and the World \n	Personal Leadership   A Quest for Excellence & Learning (Knowledge\, Skills\, & Experiences) \n	Living a Life of Purpose  \n\nThe important goal is to inspire the students to do what many of them may think are impossible or unimportant in the present context in Vietnam. \n\nAbout 200 students from Hanoi National Economics Universtiy (NEU)\, Hanoi will attend the event. The Vietnam Students Newspaper under the Central Youth Union is our Vietnam partner for the series. \n\n\nBackground: The US-ASEAN Business Council Board of Directors has requested that the Council conduct activities to engage future generations in ASEAN countries to help them build a peaceful and properous region. The Council's "Career Development Program for Vietnamese Youths: How US companies can help" is one such activity.\n\n \n\nIn reality\, for many years now\, Council member companies have been running their individual programs to help young people in ASEAN develop the right skill set for the growing economies in the region.\n\n \n\nThe Council's initiative to engage young people in Vietnam will not dilute or distract attention from those individual company programs but rather will enhance them by collating information and resources from these programs and present them in one convenient package to the target audience.\n\n \n\nCareer development guidance is of dire need in Vietnam. About 1.5 million young Vietnamese join the work force every year and the Vietnamese government has been struggling to find enough employment\, much less high-quality jobs\, for them. The irony is it is not because there are not enough jobs on the market\, but it is because most of these young people do not have the right skill set required by businesses\, both foreign and domestic\, in Vietnam.\n\n \n\nCouncil companies have a lot of expertise and resources to help Vietnam fill this void in their educational and vocational system. We can do that with the Council's "Career Development Program for Vietnamese Youths: How US companies can help".
X-ALT-DESC;FMTTYPE=text/html:<span style="font-size:12px\;"><span style="font-family:arial\;"><span style="color:#000080\;">This student dialogue aims to engage and inspire the country&rsquo\;s youth about:</span></span></span>\n\n<ul>\n	<li style="margin-top:6.0pt\;margin-right:0in\;margin-bottom:0in\;margin-bottom:.0001pt\;"><span style="font-size:12px\;"><span style="font-family:arial\;"><span style="color:#000080\;">Playing a role in developing Sustainable Agriculture in Vietnam and the World </span></span></span></li>\n	<li style="margin-top:6.0pt\;margin-right:0in\;margin-bottom:0in\;margin-bottom:.0001pt\;"><span style="font-size:12px\;"><span style="font-family:arial\;"><span style="color:#000080\;">Personal Leadership &ndash\; A Quest for Excellence &amp\; Learning (Knowledge\, Skills\, &amp\; Experiences) </span></span></span></li>\n	<li style="margin-top:6.0pt\;margin-right:0in\;margin-bottom:0in\;margin-bottom:.0001pt\;"><span style="color:#000080\;"><span style="font-size:12px\;"><span style="font-family:times new roman\,serif\;"><span style="font-family:arial\;">Living a Life of Purpose</span>&nbsp\;</span></span><span style="font-family: arial\; line-height: 1.6\;">&nbsp\;</span></span></li>\n</ul>\n<span style="color:#000080\;"><span style="font-family:arial\;">The important goal is to inspire the students to do what many of them may think are impossible or unimportant in the present context in Vietnam.&nbsp\;</span></span>\n\n<p><span style="color:#000080\;"><span style="font-family:arial\;">About 200 students from </span><span style="font-family:times new roman\,serif\;"><span style="font-size:12.0pt\;"><span style="font-size:12px\;"><span style="font-family:arial\;">Hanoi National Economics Universtiy (NEU)\, Hano</span></span>i</span></span><span style="font-family:arial\;"><span style="font-size:12px\;"> will attend the event.&nbsp\;The Vietnam Students Newspaper under the Central Youth Union is our Vietnam partner for the series.&nbsp\;</span></span></span></p>\n<br />\n<span style="color:#000080\;"><span style="font-family:arial\;"><span style="font-size:12px\;"><strong>Background: </strong>The US-ASEAN Business Council Board of Directors has requested that the Council conduct activities to engage future generations in ASEAN countries to help them build a peaceful and properous region. The Council&rsquo\;s &ldquo\;Career Development Program for Vietnamese Youths: How US companies can help&rdquo\; is one such activity.<br />\n&nbsp\;<br />\nIn reality\, for many years now\, Council member companies have been running their individual programs to help young people in ASEAN develop the right skill set for the growing economies in the region.<br />\n&nbsp\;<br />\nThe Council&rsquo\;s initiative to engage young people in Vietnam will not dilute or distract attention from those individual company programs but rather will enhance them by collating information and resources from these programs and present them in one convenient package to the target audience.<br />\n&nbsp\;<br />\nCareer development guidance is of dire need in Vietnam. About 1.5 million young Vietnamese join the work force every year and the Vietnamese government has been struggling to find enough employment\, much less high-quality jobs\, for them. The irony is it is not because there are not enough jobs on the market\, but it is because most of these young people do not have the right skill set required by businesses\, both foreign and domestic\, in Vietnam.<br />\n&nbsp\;<br />\nCouncil companies have a lot of expertise and resources to help Vietnam fill this void in their educational and vocational system. We can do that with the Council&rsquo\;s &ldquo\;Career Development Program for Vietnamese Youths: How US companies can help&rdquo\;.</span></span></span>
LOCATION:National Economics University\, 207 Giai Phong Road\, Dongtam Ward\, Hai Ba Trung District\, Hanoi\, Vietnam
UID:e.9078.1175
SEQUENCE:3
DTSTAMP:20260420T102542Z
URL:http://memberzone.usasean.org/events/details/vietnam-career-development-speaker-series-7-06-30-2014-1175
END:VEVENT

END:VCALENDAR
