BEGIN:VCALENDAR
VERSION:2.0
PRODID:-//ChamberMaster//Event Calendar 2.0//EN
METHOD:PUBLISH
X-PUBLISHED-TTL:P3D
REFRESH-INTERVAL:P3D
CALSCALE:GREGORIAN
BEGIN:VEVENT
DTSTART:20200513T120000Z
DTEND:20200513T130000Z
X-MICROSOFT-CDO-ALLDAYEVENT:FALSE
SUMMARY:Video Conference Call with the Hon. Scot Marciel\, U.S. Ambassador to Myanmar
DESCRIPTION:Video Conference Call with the Hon. Scot Marciel\, U.S. Ambassador to Myanmar
X-ALT-DESC;FMTTYPE=text/html:Video Conference Call with the Hon. Scot Marciel\, U.S. Ambassador to Myanmar
LOCATION:
UID:e.9078.8190
SEQUENCE:3
DTSTAMP:20260420T154653Z
URL:http://memberzone.usasean.org/events/details/video-conference-call-with-the-hon-scot-marciel-u-s-ambassador-to-myanmar-8190
END:VEVENT

END:VCALENDAR
