BEGIN:VCALENDAR
VERSION:2.0
PRODID:-//ChamberMaster//Event Calendar 2.0//EN
METHOD:PUBLISH
X-PUBLISHED-TTL:P3D
REFRESH-INTERVAL:P3D
CALSCALE:GREGORIAN
BEGIN:VEVENT
DTSTART:20220809T033000Z
DTEND:20220809T060000Z
X-MICROSOFT-CDO-ALLDAYEVENT:FALSE
SUMMARY:USTDA: U.S. Industry Roundtable
DESCRIPTION:Meeting with USTDA's representatives to learn more about the Agency's project preparation and partnership building tools at the upcoming Business Outreach as part of USTDA visit to Indonesia on August 8-12 2022.\n\n\n\nThe registration is closed.
X-ALT-DESC;FMTTYPE=text/html:Meeting with USTDA&#39\;s representatives to learn more about the Agency&#39\;s project preparation and partnership building tools at the upcoming Business Outreach as part of USTDA visit to Indonesia on August 8-12 2022.<br />\n<br />\n<strong>The registration is closed.</strong>
LOCATION:Westin Hotel or Ritz Carlton Mega Kuningan
UID:e.9078.8821
SEQUENCE:3
DTSTAMP:20260421T235235Z
URL:http://memberzone.usasean.org/events/details/ustda-u-s-industry-roundtable-8821
END:VEVENT

END:VCALENDAR
