BEGIN:VCALENDAR
VERSION:2.0
PRODID:-//ChamberMaster//Event Calendar 2.0//EN
METHOD:PUBLISH
X-PUBLISHED-TTL:P3D
REFRESH-INTERVAL:P3D
CALSCALE:GREGORIAN
BEGIN:VEVENT
DTSTART:20230801T070000Z
DTEND:20230801T090000Z
X-MICROSOFT-CDO-ALLDAYEVENT:FALSE
SUMMARY:USTDA Private Sector Roundtable Discussion on Electronic Vehicle Charging Infrastructure
DESCRIPTION:
X-ALT-DESC;FMTTYPE=text/html:
LOCATION:
UID:e.9078.9092
SEQUENCE:3
DTSTAMP:20260421T121822Z
URL:http://memberzone.usasean.org/events/details/ustda-private-sector-roundtable-discussion-on-electronic-vehicle-charging-infrastructure-9092
END:VEVENT

END:VCALENDAR
