BEGIN:VCALENDAR
VERSION:2.0
PRODID:-//ChamberMaster//Event Calendar 2.0//EN
METHOD:PUBLISH
X-PUBLISHED-TTL:P3D
REFRESH-INTERVAL:P3D
CALSCALE:GREGORIAN
BEGIN:VEVENT
DTSTART:20220803T050000Z
DTEND:20220803T060000Z
X-MICROSOFT-CDO-ALLDAYEVENT:FALSE
SUMMARY:USTDA Healthcare Round Table in Singapore
DESCRIPTION:USTDA Healthcare Round Table
X-ALT-DESC;FMTTYPE=text/html:USTDA Healthcare Round Table
LOCATION:The location will be shared upon registration approval
UID:e.9078.8824
SEQUENCE:3
DTSTAMP:20260422T000321Z
URL:http://memberzone.usasean.org/events/details/ustda-healthcare-round-table-in-singapore-8824
END:VEVENT

END:VCALENDAR
