BEGIN:VCALENDAR
VERSION:2.0
PRODID:-//ChamberMaster//Event Calendar 2.0//EN
METHOD:PUBLISH
X-PUBLISHED-TTL:P3D
REFRESH-INTERVAL:P3D
CALSCALE:GREGORIAN
BEGIN:VEVENT
DTSTART:20130307T013000Z
DTEND:20130307T023000Z
X-MICROSOFT-CDO-ALLDAYEVENT:FALSE
SUMMARY:USABC Vietnam Business Mission Conference Call #2
DESCRIPTION:2nd Vietnam Business Mission Conference Call
X-ALT-DESC;FMTTYPE=text/html:2nd Vietnam Business Mission Conference Call &nbsp\;&nbsp\;&nbsp\; &nbsp\;&nbsp\;&nbsp\; 
LOCATION:Conference Bridge
UID:e.9078.725
SEQUENCE:3
DTSTAMP:20260422T075440Z
URL:http://memberzone.usasean.org/events/details/usabc-vietnam-business-mission-conference-call-2-03-06-2013-725
END:VEVENT

END:VCALENDAR
