BEGIN:VCALENDAR
VERSION:2.0
PRODID:-//ChamberMaster//Event Calendar 2.0//EN
METHOD:PUBLISH
X-PUBLISHED-TTL:P3D
REFRESH-INTERVAL:P3D
CALSCALE:GREGORIAN
BEGIN:VEVENT
DTSTART:20201110T200000Z
DTEND:20201110T210000Z
X-MICROSOFT-CDO-ALLDAYEVENT:FALSE
SUMMARY:USABC - San Diego EDC Panel Discussion
DESCRIPTION:The US-ASEAN Business Council and the San Diego World Trade Center have are partnering to host a virtual discussion focused on (1) the history and current state of the US-ASEAN trade relationship\, (2) the benefits of doing business in Southeast Asia\, and (3) how the US-ASEAN trade relationship is projected to develop over the next decade.
X-ALT-DESC;FMTTYPE=text/html:<p dir="ltr" style="line-height:1.2\;margin-top:0pt\;margin-bottom:0pt\;"><span id="docs-internal-guid-7827d541-7fff-8d73-3d46-d86a69a5e14d"><span style="font-size: 11pt\; font-family: Calibri\, sans-serif\; color: rgb(0\, 0\, 0)\; background-color: transparent\; font-variant-numeric: normal\; font-variant-east-asian: normal\; vertical-align: baseline\; white-space: pre-wrap\;">The US-ASEAN Business Council and the San Diego World Trade Center have are partnering to host a virtual discussion focused on (1) the history and current state of the US-ASEAN trade relationship\, (2) the benefits of doing business in Southeast Asia\, and (3) how the US-ASEAN trade relationship is projected to develop over the next decade.</span></span></p>\n\n<div>&nbsp\;</div>\n
LOCATION:Contact Alberto Coria (acoria@usasean.org) for dial in details.
UID:e.9078.8337
SEQUENCE:3
DTSTAMP:20260420T063920Z
URL:http://memberzone.usasean.org/events/details/usabc-san-diego-edc-panel-discussion-8337
END:VEVENT

END:VCALENDAR
