BEGIN:VCALENDAR
VERSION:2.0
PRODID:-//ChamberMaster//Event Calendar 2.0//EN
METHOD:PUBLISH
X-PUBLISHED-TTL:P3D
REFRESH-INTERVAL:P3D
CALSCALE:GREGORIAN
BEGIN:VEVENT
DTSTART:20140215T034500Z
DTEND:20140214T053000Z
X-MICROSOFT-CDO-ALLDAYEVENT:FALSE
SUMMARY:USABC Invite: Luncheon with Mike Milken
DESCRIPTION:Luncheon with Mike Milken
X-ALT-DESC;FMTTYPE=text/html:<div style="color: gray\;">\n	Luncheon with Mike Milken</div>\n
LOCATION:Regent Singapore\, Royal Pavillion Ballroom 1 1 Cuscaden Road\, Singapore
UID:e.9078.1029
SEQUENCE:3
DTSTAMP:20260421T042531Z
URL:http://memberzone.usasean.org/events/details/usabc-invite-luncheon-with-mike-milken-02-14-2014-1029
END:VEVENT

END:VCALENDAR
