BEGIN:VCALENDAR
VERSION:2.0
PRODID:-//ChamberMaster//Event Calendar 2.0//EN
METHOD:PUBLISH
X-PUBLISHED-TTL:P3D
REFRESH-INTERVAL:P3D
CALSCALE:GREGORIAN
BEGIN:VEVENT
DTSTART;VALUE=DATE:20120312
DTEND;VALUE=DATE:20120830
TRANSP:TRANSPARENT
X-MICROSOFT-CDO-ALLDAYEVENT:TRUE
SUMMARY:USABC - 2012 Senior Executives Business Missions to Thailand\, Cambodia and ICT "Mini" Mission to Thailand - Mar 12 2012
DESCRIPTION:
X-ALT-DESC;FMTTYPE=text/html:
LOCATION:
UID:e.9078.575
SEQUENCE:3
DTSTAMP:20260424T221736Z
URL:http://memberzone.usasean.org/events/details/usabc-2012-senior-executives-business-missions-to-thailand-cambodia-and-ict-mini-mission-to-thailand-mar-12-2012-03-12-2012-575
END:VEVENT

END:VCALENDAR
