BEGIN:VCALENDAR
VERSION:2.0
PRODID:-//ChamberMaster//Event Calendar 2.0//EN
METHOD:PUBLISH
X-PUBLISHED-TTL:P3D
REFRESH-INTERVAL:P3D
CALSCALE:GREGORIAN
BEGIN:VEVENT
DTSTART;VALUE=DATE:20150526
DTEND;VALUE=DATE:20150529
TRANSP:TRANSPARENT
X-MICROSOFT-CDO-ALLDAYEVENT:TRUE
SUMMARY:US Pavilion - ASEAN SME Showcase and Conference (Kuala Lumpur)
DESCRIPTION:
X-ALT-DESC;FMTTYPE=text/html:
LOCATION:
UID:e.9078.1402
SEQUENCE:3
DTSTAMP:20260419T132300Z
URL:http://memberzone.usasean.org/events/details/us-pavilion-asean-sme-showcase-and-conference-kuala-lumpur-05-26-2015-1402
END:VEVENT

END:VCALENDAR
